BEGIN:VCALENDAR
VERSION:2.0
PRODID:-//Ortsgemeinde Dichtelbach - ECPv6.15.20//NONSGML v1.0//EN
CALSCALE:GREGORIAN
METHOD:PUBLISH
X-WR-CALNAME:Ortsgemeinde Dichtelbach
X-ORIGINAL-URL:https://dichtelbach.de
X-WR-CALDESC:Veranstaltungen für Ortsgemeinde Dichtelbach
REFRESH-INTERVAL;VALUE=DURATION:PT1H
X-Robots-Tag:noindex
X-PUBLISHED-TTL:PT1H
BEGIN:VTIMEZONE
TZID:Europe/Berlin
BEGIN:DAYLIGHT
TZOFFSETFROM:+0100
TZOFFSETTO:+0200
TZNAME:CEST
DTSTART:20190331T010000
END:DAYLIGHT
BEGIN:STANDARD
TZOFFSETFROM:+0200
TZOFFSETTO:+0100
TZNAME:CET
DTSTART:20191027T010000
END:STANDARD
BEGIN:DAYLIGHT
TZOFFSETFROM:+0100
TZOFFSETTO:+0200
TZNAME:CEST
DTSTART:20200329T010000
END:DAYLIGHT
BEGIN:STANDARD
TZOFFSETFROM:+0200
TZOFFSETTO:+0100
TZNAME:CET
DTSTART:20201025T010000
END:STANDARD
BEGIN:DAYLIGHT
TZOFFSETFROM:+0100
TZOFFSETTO:+0200
TZNAME:CEST
DTSTART:20210328T010000
END:DAYLIGHT
BEGIN:STANDARD
TZOFFSETFROM:+0200
TZOFFSETTO:+0100
TZNAME:CET
DTSTART:20211031T010000
END:STANDARD
END:VTIMEZONE
BEGIN:VEVENT
DTSTART;TZID=Europe/Berlin:20200801T110000
DTEND;TZID=Europe/Berlin:20200801T160000
DTSTAMP:20260424T185309
CREATED:20200706T115330Z
LAST-MODIFIED:20200706T115330Z
UID:870-1596279600-1596297600@dichtelbach.de
SUMMARY:DORFflohmarkt mit den Landfrauen
DESCRIPTION:Herzliche Einladung für Jung und Alt zum Dorfflohmarkt mit den Landfrauen auf dem Alten Friedhof in Dichtelbach. \nWann: Samstag\, 01.08.2020  von 11.00 bis 16.00 Uhr \nWo: der Alten Friedhof\, Dichtelbach \nParken: im Dorf –  es darf zu keiner Verkehrsbeeinträchtigung durch parkende Autos kommen \nWichtige Informationen: \nDer aktuellsten Corona-Bekämpfungsverordnung Rheinland-Pfalz (CoBeLVO) ist in Eigenverantwortung Folge zu leisten. Änderungen können täglich stattfinden. \nFalls abzusehen ist\, dass die Wetterlage miserabel wird\, findet kein Markt statt. Jeder Besucher ist gebeten\, seine Maske zu tragen. Verständlicherweise wird es keine Verköstigung geben.
URL:https://dichtelbach.de/event/dorfflohmarkt-mit-den-landfrauen/
LOCATION:Alter Friedhof\, Kuhberg\, Dichtelbach\, Deutschland
END:VEVENT
END:VCALENDAR