BEGIN:VCALENDAR
VERSION:2.0
PRODID:-//Ortsgemeinde Dichtelbach - ECPv6.15.20//NONSGML v1.0//EN
CALSCALE:GREGORIAN
METHOD:PUBLISH
X-WR-CALNAME:Ortsgemeinde Dichtelbach
X-ORIGINAL-URL:https://dichtelbach.de
X-WR-CALDESC:Veranstaltungen für Ortsgemeinde Dichtelbach
REFRESH-INTERVAL;VALUE=DURATION:PT1H
X-Robots-Tag:noindex
X-PUBLISHED-TTL:PT1H
BEGIN:VTIMEZONE
TZID:Europe/Berlin
BEGIN:DAYLIGHT
TZOFFSETFROM:+0100
TZOFFSETTO:+0200
TZNAME:CEST
DTSTART:20190331T010000
END:DAYLIGHT
BEGIN:STANDARD
TZOFFSETFROM:+0200
TZOFFSETTO:+0100
TZNAME:CET
DTSTART:20191027T010000
END:STANDARD
BEGIN:DAYLIGHT
TZOFFSETFROM:+0100
TZOFFSETTO:+0200
TZNAME:CEST
DTSTART:20200329T010000
END:DAYLIGHT
BEGIN:STANDARD
TZOFFSETFROM:+0200
TZOFFSETTO:+0100
TZNAME:CET
DTSTART:20201025T010000
END:STANDARD
BEGIN:DAYLIGHT
TZOFFSETFROM:+0100
TZOFFSETTO:+0200
TZNAME:CEST
DTSTART:20210328T010000
END:DAYLIGHT
BEGIN:STANDARD
TZOFFSETFROM:+0200
TZOFFSETTO:+0100
TZNAME:CET
DTSTART:20211031T010000
END:STANDARD
END:VTIMEZONE
BEGIN:VEVENT
DTSTART;TZID=Europe/Berlin:20200319T190000
DTEND;TZID=Europe/Berlin:20200319T220000
DTSTAMP:20260425T032148
CREATED:20200316T201338Z
LAST-MODIFIED:20200316T201338Z
UID:739-1584644400-1584655200@dichtelbach.de
SUMMARY:Sitzung des Gemeinderats
DESCRIPTION:
URL:https://dichtelbach.de/event/sitzung-des-gemeinderats/
LOCATION:Multifunktionshaus\, Rheinböllener Straße 46\, Dichtelbach\, 55494\, Deutschland
ORGANIZER;CN="Gemeinderat Dichtelbach":MAILTO:info@dichtelbach.de
END:VEVENT
END:VCALENDAR