BEGIN:VCALENDAR
VERSION:2.0
PRODID:-//Ortsgemeinde Dichtelbach - ECPv6.15.20//NONSGML v1.0//EN
CALSCALE:GREGORIAN
METHOD:PUBLISH
X-WR-CALNAME:Ortsgemeinde Dichtelbach
X-ORIGINAL-URL:https://dichtelbach.de
X-WR-CALDESC:Veranstaltungen für Ortsgemeinde Dichtelbach
REFRESH-INTERVAL;VALUE=DURATION:PT1H
X-Robots-Tag:noindex
X-PUBLISHED-TTL:PT1H
BEGIN:VTIMEZONE
TZID:Europe/Berlin
BEGIN:DAYLIGHT
TZOFFSETFROM:+0100
TZOFFSETTO:+0200
TZNAME:CEST
DTSTART:20220327T010000
END:DAYLIGHT
BEGIN:STANDARD
TZOFFSETFROM:+0200
TZOFFSETTO:+0100
TZNAME:CET
DTSTART:20221030T010000
END:STANDARD
BEGIN:DAYLIGHT
TZOFFSETFROM:+0100
TZOFFSETTO:+0200
TZNAME:CEST
DTSTART:20230326T010000
END:DAYLIGHT
BEGIN:STANDARD
TZOFFSETFROM:+0200
TZOFFSETTO:+0100
TZNAME:CET
DTSTART:20231029T010000
END:STANDARD
BEGIN:DAYLIGHT
TZOFFSETFROM:+0100
TZOFFSETTO:+0200
TZNAME:CEST
DTSTART:20240331T010000
END:DAYLIGHT
BEGIN:STANDARD
TZOFFSETFROM:+0200
TZOFFSETTO:+0100
TZNAME:CET
DTSTART:20241027T010000
END:STANDARD
END:VTIMEZONE
BEGIN:VEVENT
DTSTART;VALUE=DATE:20231014
DTEND;VALUE=DATE:20231015
DTSTAMP:20260421T105422
CREATED:20220927T153623Z
LAST-MODIFIED:20230929T081239Z
UID:2657-1697241600-1697327999@dichtelbach.de
SUMMARY:Bolivienkleidersammlung 2023
DESCRIPTION:Die Bolivienkleidersammlung der katholischen Jugend findet in diesem Jahr in unserer Gemeinde am Samstag\, 14.10.2023 statt.\nBitte nutzen Sie eigene – nur keine gelben – Säcke und kennzeichnen Sie diese mit einer Aufschrift. Vielen Dank! Einige „alte“ Bolivientüten liegen in der katholischen Kirche in Rheinböllen zum Mitnehmen aus.\nDies ist in diesem Jahr die einzige Fairtrade-Sammlung in der Region. Sie unterstützen mit Ihrer Kleiderspende Ausbildungsprojekte in Bolivien\, die mit dem Erlös finanziert werden.\nNoch ein Tipp: Wir freuen uns über saubere\, sortierte Kleidung und Haushaltswäsche\, die Sie nicht mehr nutzen! \nIn Dichtelbach wird es eine Sammelstelle geben: Bushaltestelle am Dorfplatz.\nDie Säcke können ab dem 12.10.2023 dort abgestellt werden:
URL:https://dichtelbach.de/event/bolivienkleidersammlung-2022/
LOCATION:Bushaltestelle Dorfplatz\, Rheinböllener Str\, Dichtelbach\, Deutschland\, 55494\, Deutschland
ATTACH;FMTTYPE=image/png:https://dichtelbach.de/wp-content/uploads/2022/09/Bolivien_Kleider.png
END:VEVENT
END:VCALENDAR