BEGIN:VCALENDAR
VERSION:2.0
PRODID:-//Ortsgemeinde Dichtelbach - ECPv6.15.20//NONSGML v1.0//EN
CALSCALE:GREGORIAN
METHOD:PUBLISH
X-ORIGINAL-URL:https://dichtelbach.de
X-WR-CALDESC:Veranstaltungen für Ortsgemeinde Dichtelbach
REFRESH-INTERVAL;VALUE=DURATION:PT1H
X-Robots-Tag:noindex
X-PUBLISHED-TTL:PT1H
BEGIN:VTIMEZONE
TZID:Europe/Berlin
BEGIN:DAYLIGHT
TZOFFSETFROM:+0100
TZOFFSETTO:+0200
TZNAME:CEST
DTSTART:20210328T010000
END:DAYLIGHT
BEGIN:STANDARD
TZOFFSETFROM:+0200
TZOFFSETTO:+0100
TZNAME:CET
DTSTART:20211031T010000
END:STANDARD
BEGIN:DAYLIGHT
TZOFFSETFROM:+0100
TZOFFSETTO:+0200
TZNAME:CEST
DTSTART:20220327T010000
END:DAYLIGHT
BEGIN:STANDARD
TZOFFSETFROM:+0200
TZOFFSETTO:+0100
TZNAME:CET
DTSTART:20221030T010000
END:STANDARD
BEGIN:DAYLIGHT
TZOFFSETFROM:+0100
TZOFFSETTO:+0200
TZNAME:CEST
DTSTART:20230326T010000
END:DAYLIGHT
BEGIN:STANDARD
TZOFFSETFROM:+0200
TZOFFSETTO:+0100
TZNAME:CET
DTSTART:20231029T010000
END:STANDARD
END:VTIMEZONE
BEGIN:VEVENT
DTSTART;TZID=Europe/Berlin:20220924T110000
DTEND;TZID=Europe/Berlin:20220924T180000
DTSTAMP:20260421T124420
CREATED:20220919T080949Z
LAST-MODIFIED:20220919T080949Z
UID:2645-1664017200-1664042400@dichtelbach.de
SUMMARY:Kartoffelfest 2022
DESCRIPTION:Liebe Dichtelbacher*innen\, das diesjährige Kartoffelfest findet am 24.09.2022 ab 11.00 Uhr an der Römerhalle statt. Der Dichtelbacher Dorftreff hat das Fest organisiert. Sie können wieder vor Ort Kartoffeln erwerben. Für Essen und Trinken ist wie immer gesorgt. Der Dichtelbacher Dorftreff würde sich auf euer Kommen sehr freuen.
URL:https://dichtelbach.de/event/kartoffelfest-2022/
LOCATION:Römerhalle\, Kohlhof 22\, Dichtelbach\, 55494\, Deutschland
ATTACH;FMTTYPE=image/jpeg:https://dichtelbach.de/wp-content/uploads/2020/09/DDT3.jpg
END:VEVENT
END:VCALENDAR