BEGIN:VCALENDAR
VERSION:2.0
PRODID:-//Ortsgemeinde Dichtelbach - ECPv6.15.20//NONSGML v1.0//EN
CALSCALE:GREGORIAN
METHOD:PUBLISH
X-WR-CALNAME:Ortsgemeinde Dichtelbach
X-ORIGINAL-URL:https://dichtelbach.de
X-WR-CALDESC:Veranstaltungen für Ortsgemeinde Dichtelbach
REFRESH-INTERVAL;VALUE=DURATION:PT1H
X-Robots-Tag:noindex
X-PUBLISHED-TTL:PT1H
BEGIN:VTIMEZONE
TZID:Europe/Berlin
BEGIN:DAYLIGHT
TZOFFSETFROM:+0100
TZOFFSETTO:+0200
TZNAME:CEST
DTSTART:20210328T010000
END:DAYLIGHT
BEGIN:STANDARD
TZOFFSETFROM:+0200
TZOFFSETTO:+0100
TZNAME:CET
DTSTART:20211031T010000
END:STANDARD
BEGIN:DAYLIGHT
TZOFFSETFROM:+0100
TZOFFSETTO:+0200
TZNAME:CEST
DTSTART:20220327T010000
END:DAYLIGHT
BEGIN:STANDARD
TZOFFSETFROM:+0200
TZOFFSETTO:+0100
TZNAME:CET
DTSTART:20221030T010000
END:STANDARD
BEGIN:DAYLIGHT
TZOFFSETFROM:+0100
TZOFFSETTO:+0200
TZNAME:CEST
DTSTART:20230326T010000
END:DAYLIGHT
BEGIN:STANDARD
TZOFFSETFROM:+0200
TZOFFSETTO:+0100
TZNAME:CET
DTSTART:20231029T010000
END:STANDARD
END:VTIMEZONE
BEGIN:VEVENT
DTSTART;TZID=Europe/Berlin:20220703T110000
DTEND;TZID=Europe/Berlin:20220703T160000
DTSTAMP:20260421T141221
CREATED:20220519T084240Z
LAST-MODIFIED:20220519T084240Z
UID:1479-1656846000-1656864000@dichtelbach.de
SUMMARY:Dichtelbacher DORFflohmarkt mit den Landfrauen
DESCRIPTION:Am Sonntag 03.07.2022 findet von 11.00 Uhr bis 16.00 Uhr\, wieder ein DORFflohmarkt auf dem Alten Friedhof in Dichtelbach statt. Interessierte Privatpersonen sind herzlich eingeladen\, sich mit einem Verkaufstisch zu beteiligen und bei Michaela Clemens-Kopp (Tel. 0152-04439.529) anzumelden. Hier gibt es auch weitere Informationen und die Platznummer. Die Standplätze sind begrenzt. Wir nehmen keine Standgebühr. Den Verkaufserlös behalten die Verkäufer/innen. Nach dem Flohmarkt bitten wir jeden Standbetreiber/In um eine Spende\, die dann einem karitativen Zweck zugutekommt. Der kunterbunte Landfrauenbus zum Thema #LANDerLEBEN – LandFrauen bringen es auf den Punk\, wird auch Vorort sein.
URL:https://dichtelbach.de/event/dichtelbacher-dorfflohmarkt-mit-den-landfrauen/
LOCATION:Alter Friedhof\, Kuhberg\, Dichtelbach\, Deutschland
ATTACH;FMTTYPE=image/jpeg:https://dichtelbach.de/wp-content/uploads/2021/08/933332767.jpg
END:VEVENT
END:VCALENDAR