BEGIN:VCALENDAR
VERSION:2.0
PRODID:-//Ortsgemeinde Dichtelbach - ECPv6.15.20//NONSGML v1.0//EN
CALSCALE:GREGORIAN
METHOD:PUBLISH
X-ORIGINAL-URL:https://dichtelbach.de
X-WR-CALDESC:Veranstaltungen für Ortsgemeinde Dichtelbach
REFRESH-INTERVAL;VALUE=DURATION:PT1H
X-Robots-Tag:noindex
X-PUBLISHED-TTL:PT1H
BEGIN:VTIMEZONE
TZID:Europe/Berlin
BEGIN:DAYLIGHT
TZOFFSETFROM:+0100
TZOFFSETTO:+0200
TZNAME:CEST
DTSTART:20190331T010000
END:DAYLIGHT
BEGIN:STANDARD
TZOFFSETFROM:+0200
TZOFFSETTO:+0100
TZNAME:CET
DTSTART:20191027T010000
END:STANDARD
BEGIN:DAYLIGHT
TZOFFSETFROM:+0100
TZOFFSETTO:+0200
TZNAME:CEST
DTSTART:20200329T010000
END:DAYLIGHT
BEGIN:STANDARD
TZOFFSETFROM:+0200
TZOFFSETTO:+0100
TZNAME:CET
DTSTART:20201025T010000
END:STANDARD
BEGIN:DAYLIGHT
TZOFFSETFROM:+0100
TZOFFSETTO:+0200
TZNAME:CEST
DTSTART:20210328T010000
END:DAYLIGHT
BEGIN:STANDARD
TZOFFSETFROM:+0200
TZOFFSETTO:+0100
TZNAME:CET
DTSTART:20211031T010000
END:STANDARD
END:VTIMEZONE
BEGIN:VEVENT
DTSTART;TZID=Europe/Berlin:20200623T190000
DTEND;TZID=Europe/Berlin:20200623T220000
DTSTAMP:20260424T234741
CREATED:20200611T161503Z
LAST-MODIFIED:20200611T161503Z
UID:853-1592938800-1592949600@dichtelbach.de
SUMMARY:Sitzung des Gemeinderates
DESCRIPTION:Sitzungstag: Dienstag\, 23.06.2020 \nSitzungsort: Römerhalle (Saal)\nSitzungsbeginn: 19:00 Uhr  \n\n  \nTagesordnung: Öffentliche Sitzung  \n\nEinwohnerfragestunde\nBeratung und Beschluss Neubaugebiet „Auf der Heide“\n\n    a.) Planentwurf \n    b.) Textliche Festsetzungen \n\nBeratung und Beschlussfassung über Zuschüsse Vereine\nDrainage- und Brunnensanierung am Kastenbrunnen\nFestlegung Geltungsbereich Förderung „leben mittendrin“\nMitteilungen und Anfragen\n\n  \nTagesordnung: Nichtöffentliche Sitzung  \n  \n\n1. Grundstücksangelegenheiten\nMitteilungen und Anfragen\n\n  \nOrtsgemeinde Dichtelbach \n1. Beigeordneter  \nKevin Keber
URL:https://dichtelbach.de/event/sitzung-des-gemeinderates-2/
LOCATION:Römerhalle\, Kohlhof 22\, Dichtelbach\, 55494\, Deutschland
CATEGORIES:Gemeinderat
ATTACH;FMTTYPE=image/png:https://dichtelbach.de/wp-content/uploads/2019/12/Wappen_Dib-1-scaled-e1578666676898.png
ORGANIZER;CN="Gemeinderat Dichtelbach":MAILTO:info@dichtelbach.de
END:VEVENT
END:VCALENDAR