BEGIN:VCALENDAR
VERSION:2.0
PRODID:-//Ortsgemeinde Dichtelbach - ECPv6.15.20//NONSGML v1.0//EN
CALSCALE:GREGORIAN
METHOD:PUBLISH
X-ORIGINAL-URL:https://dichtelbach.de
X-WR-CALDESC:Veranstaltungen für Ortsgemeinde Dichtelbach
REFRESH-INTERVAL;VALUE=DURATION:PT1H
X-Robots-Tag:noindex
X-PUBLISHED-TTL:PT1H
BEGIN:VTIMEZONE
TZID:Europe/Berlin
BEGIN:DAYLIGHT
TZOFFSETFROM:+0100
TZOFFSETTO:+0200
TZNAME:CEST
DTSTART:20190331T010000
END:DAYLIGHT
BEGIN:STANDARD
TZOFFSETFROM:+0200
TZOFFSETTO:+0100
TZNAME:CET
DTSTART:20191027T010000
END:STANDARD
BEGIN:DAYLIGHT
TZOFFSETFROM:+0100
TZOFFSETTO:+0200
TZNAME:CEST
DTSTART:20200329T010000
END:DAYLIGHT
BEGIN:STANDARD
TZOFFSETFROM:+0200
TZOFFSETTO:+0100
TZNAME:CET
DTSTART:20201025T010000
END:STANDARD
BEGIN:DAYLIGHT
TZOFFSETFROM:+0100
TZOFFSETTO:+0200
TZNAME:CEST
DTSTART:20210328T010000
END:DAYLIGHT
BEGIN:STANDARD
TZOFFSETFROM:+0200
TZOFFSETTO:+0100
TZNAME:CET
DTSTART:20211031T010000
END:STANDARD
END:VTIMEZONE
BEGIN:VEVENT
DTSTART;TZID=Europe/Berlin:20200519T193000
DTEND;TZID=Europe/Berlin:20200519T220000
DTSTAMP:20260425T012418
CREATED:20200501T160450Z
LAST-MODIFIED:20200501T164657Z
UID:818-1589916600-1589925600@dichtelbach.de
SUMMARY:Sitzung des Gemeinderats
DESCRIPTION:Tagesordnung: Öffentliche Sitzung \n\n Einwohnerfragestunde\nBeratung und Beschluss der Haushaltssatzung 2020\nEntwurfsplanung und textliche Festlegungen „Neubaugebiet auf der Heide“\nBeratung und Beschlussfassung Verkehrssicherung Friedhof\nBeratung und Beschlussfassung Kirmes 2020\nSanierung Bushaltestelle\nBeratung über Wassersituation neuer Sportplatz\nMitteilungen und Anfragen\n \n\nTagesordnung: Nichtöffentliche Sitzung \n\nGrundstücksangelegenheiten\n\n  \nDichtelbach den 01.05.2020                       \nMartin Huhn\nGeschäftsführender Ortsbürgermeister
URL:https://dichtelbach.de/event/sitzung-des-gemeinderats-2/
LOCATION:Römerhalle\, Kohlhof 22\, Dichtelbach\, 55494\, Deutschland
ORGANIZER;CN="Gemeinderat Dichtelbach":MAILTO:info@dichtelbach.de
END:VEVENT
END:VCALENDAR