BEGIN:VCALENDAR
VERSION:2.0
PRODID:-//Ortsgemeinde Dichtelbach - ECPv6.15.20//NONSGML v1.0//EN
CALSCALE:GREGORIAN
METHOD:PUBLISH
X-ORIGINAL-URL:https://dichtelbach.de
X-WR-CALDESC:Veranstaltungen für Ortsgemeinde Dichtelbach
REFRESH-INTERVAL;VALUE=DURATION:PT1H
X-Robots-Tag:noindex
X-PUBLISHED-TTL:PT1H
BEGIN:VTIMEZONE
TZID:Europe/Berlin
BEGIN:DAYLIGHT
TZOFFSETFROM:+0100
TZOFFSETTO:+0200
TZNAME:CEST
DTSTART:20190331T010000
END:DAYLIGHT
BEGIN:STANDARD
TZOFFSETFROM:+0200
TZOFFSETTO:+0100
TZNAME:CET
DTSTART:20191027T010000
END:STANDARD
BEGIN:DAYLIGHT
TZOFFSETFROM:+0100
TZOFFSETTO:+0200
TZNAME:CEST
DTSTART:20200329T010000
END:DAYLIGHT
BEGIN:STANDARD
TZOFFSETFROM:+0200
TZOFFSETTO:+0100
TZNAME:CET
DTSTART:20201025T010000
END:STANDARD
BEGIN:DAYLIGHT
TZOFFSETFROM:+0100
TZOFFSETTO:+0200
TZNAME:CEST
DTSTART:20210328T010000
END:DAYLIGHT
BEGIN:STANDARD
TZOFFSETFROM:+0200
TZOFFSETTO:+0100
TZNAME:CET
DTSTART:20211031T010000
END:STANDARD
END:VTIMEZONE
BEGIN:VEVENT
DTSTART;TZID=Europe/Berlin:20200229T190000
DTEND;TZID=Europe/Berlin:20200229T233000
DTSTAMP:20260425T050627
CREATED:20200226T193013Z
LAST-MODIFIED:20200226T193013Z
UID:645-1583002800-1583019000@dichtelbach.de
SUMMARY:Kappensitzung
DESCRIPTION:Bereits zum zweiten Mal hieß Sitzungspräsident Julian Huhn\, diesmal als Beachboy\, die Narrenschar an Bord der MS Dichtelbach willkommen. Die Boardingpässe hatte das Publikum bereits gelöst und schon konnte es losgehen – auf große Fahrt. Anschließend begrüßte er seine Besatzung\, den Elferrat.
URL:https://dichtelbach.de/event/kappensitzung/
END:VEVENT
END:VCALENDAR